BEGIN:VCALENDAR
VERSION:2.0
PRODID:-//News Now Warsaw - ECPv6.15.20//NONSGML v1.0//EN
CALSCALE:GREGORIAN
METHOD:PUBLISH
X-WR-CALNAME:News Now Warsaw
X-ORIGINAL-URL:https://www.newsnowwarsaw.com
X-WR-CALDESC:Events for News Now Warsaw
REFRESH-INTERVAL;VALUE=DURATION:PT1H
X-Robots-Tag:noindex
X-PUBLISHED-TTL:PT1H
BEGIN:VTIMEZONE
TZID:America/Halifax
BEGIN:DAYLIGHT
TZOFFSETFROM:-0400
TZOFFSETTO:-0300
TZNAME:ADT
DTSTART:20250309T060000
END:DAYLIGHT
BEGIN:STANDARD
TZOFFSETFROM:-0300
TZOFFSETTO:-0400
TZNAME:AST
DTSTART:20251102T050000
END:STANDARD
BEGIN:DAYLIGHT
TZOFFSETFROM:-0400
TZOFFSETTO:-0300
TZNAME:ADT
DTSTART:20260308T060000
END:DAYLIGHT
BEGIN:STANDARD
TZOFFSETFROM:-0300
TZOFFSETTO:-0400
TZNAME:AST
DTSTART:20261101T050000
END:STANDARD
BEGIN:DAYLIGHT
TZOFFSETFROM:-0400
TZOFFSETTO:-0300
TZNAME:ADT
DTSTART:20270314T060000
END:DAYLIGHT
BEGIN:STANDARD
TZOFFSETFROM:-0300
TZOFFSETTO:-0400
TZNAME:AST
DTSTART:20271107T050000
END:STANDARD
END:VTIMEZONE
BEGIN:VEVENT
DTSTART;TZID=America/Halifax:20260420T173000
DTEND;TZID=America/Halifax:20260420T200000
DTSTAMP:20260420T015337
CREATED:20260327T210900Z
LAST-MODIFIED:20260327T210900Z
UID:128864-1776706200-1776715200@www.newsnowwarsaw.com
SUMMARY:Circle of Friends Pasta Dinner
DESCRIPTION:Circle of Friends annual all you can eat pasta dinner. Proceeds go Cancer Resources of Elkhart County.  All monies collect stay in Elkhart County. Dinner includes pasta dinner\, salad\, garlic bread and lemonade or water for $15. There will be raffle tickets available. See facebook page:  Circle of Friends – Elkhart County.
URL:https://www.newsnowwarsaw.com/event/circle-of-friends-pasta-dinner/
LOCATION:VFW Post 985\, Goshen\, 1201 W. Pike St\, Goshen\, IN\, 46526\, United States
END:VEVENT
END:VCALENDAR