BEGIN:VCALENDAR
VERSION:2.0
PRODID:-//News Now Warsaw - ECPv6.15.20//NONSGML v1.0//EN
CALSCALE:GREGORIAN
METHOD:PUBLISH
X-WR-CALNAME:News Now Warsaw
X-ORIGINAL-URL:https://www.newsnowwarsaw.com
X-WR-CALDESC:Events for News Now Warsaw
REFRESH-INTERVAL;VALUE=DURATION:PT1H
X-Robots-Tag:noindex
X-PUBLISHED-TTL:PT1H
BEGIN:VTIMEZONE
TZID:America/Halifax
BEGIN:DAYLIGHT
TZOFFSETFROM:-0400
TZOFFSETTO:-0300
TZNAME:ADT
DTSTART:20250309T060000
END:DAYLIGHT
BEGIN:STANDARD
TZOFFSETFROM:-0300
TZOFFSETTO:-0400
TZNAME:AST
DTSTART:20251102T050000
END:STANDARD
BEGIN:DAYLIGHT
TZOFFSETFROM:-0400
TZOFFSETTO:-0300
TZNAME:ADT
DTSTART:20260308T060000
END:DAYLIGHT
BEGIN:STANDARD
TZOFFSETFROM:-0300
TZOFFSETTO:-0400
TZNAME:AST
DTSTART:20261101T050000
END:STANDARD
BEGIN:DAYLIGHT
TZOFFSETFROM:-0400
TZOFFSETTO:-0300
TZNAME:ADT
DTSTART:20270314T060000
END:DAYLIGHT
BEGIN:STANDARD
TZOFFSETFROM:-0300
TZOFFSETTO:-0400
TZNAME:AST
DTSTART:20271107T050000
END:STANDARD
END:VTIMEZONE
BEGIN:VEVENT
DTSTART;TZID=America/Halifax:20260403T120000
DTEND;TZID=America/Halifax:20260430T160000
DTSTAMP:20260424T025810
CREATED:20260420T183445Z
LAST-MODIFIED:20260420T183445Z
UID:130001-1775217600-1777564800@www.newsnowwarsaw.com
SUMMARY:Visual Arts Series: Norah Ruth Amstutz
DESCRIPTION:View the amazing works of Nora Ruth Amstutz throughout the Goshen Theater Lobby during all Box Office Hours (W-Sa\, 12-4PM)\, and all public events from April 3-30.
URL:https://www.newsnowwarsaw.com/event/visual-arts-series-norah-ruth-amstutz/
LOCATION:Goshen Theater\, 216 South Main Street\, Goshen\, IN\, 46526\, United States
ATTACH;FMTTYPE=image/jpeg:https://www.newsnowwarsaw.com/wp-content/uploads/2026/04/Norah-Ruth.jpg
END:VEVENT
BEGIN:VEVENT
DTSTART;TZID=America/Halifax:20260403T120000
DTEND;TZID=America/Halifax:20260430T160000
DTSTAMP:20260424T025810
CREATED:20260420T183445Z
LAST-MODIFIED:20260420T183445Z
UID:130006-1775217600-1777564800@www.newsnowwarsaw.com
SUMMARY:Andy Gross Comedy
DESCRIPTION:Get ready for an unforgettable night of comedy\, magic\, and jaw-dropping ventriloquism with viral sensation Andy Gross! \nWith over 1 billion online views\, a hit Amazon Prime special\, and one of the most talked-about live acts touring today\, Andy combines laugh-out-loud stand-up\, mind-blowing illusions\, and his famous “SplitMan” and “Head-Off” pranks into one fast-paced\, family-friendly show. \nAndy has performed on major TV networks\, appeared at top comedy clubs and theaters across the country\, and continues to sell out venues with a show that leaves audiences saying\, “How did he DO that?!” \nPerfect for fans of high-energy comedy\, visual magic\, and interactive entertainment — this is one show you’ll be talking about long after you leave the theater. \nDon’t miss Andy Gross Live — comedy\, magic\, and mayhem from one of the most unique entertainers in America.\nSponsored by Shelly and Steve Fidler
URL:https://www.newsnowwarsaw.com/event/andy-gross-comedy/
LOCATION:Goshen Theater\, 216 South Main Street\, Goshen\, IN\, 46526\, United States
ATTACH;FMTTYPE=image/jpeg:https://www.newsnowwarsaw.com/wp-content/uploads/2026/04/Norah-Ruth-1.jpg
END:VEVENT
BEGIN:VEVENT
DTSTART;TZID=America/Halifax:20260424T080000
DTEND;TZID=America/Halifax:20260426T170000
DTSTAMP:20260424T025810
CREATED:20260406T144413Z
LAST-MODIFIED:20260406T144413Z
UID:129292-1777017600-1777222800@www.newsnowwarsaw.com
SUMMARY:Friends of North Webster Community Public Library Spring Booksale
DESCRIPTION:Get your summer reading list filled up at the North Webster spring book sale. The Friends of North Webster Community Public Library will be hosting a book sale on April 23-25 \, at the North Webster Community Public Library\, 110 E. North St. in North Webster. Thursday and Friday will be from 10 am to 5 pm\, Saturday from 10 am to 1 pm.   \nMost books are priced at $1 or less with an option to fill an extra large bag for $10 and join the FOL “fill the bag” loyalty program. Commemorative cloth bags will be provided. If you have previously joined the program\, remember to bring your bag and punch card to this sale.   \nThere will be books from all kinds of genres and authors — something for every level of reader. Also available will be a selection of Jigsaw puzzles CD’s\, DVD’s and audio books.   \nAll proceeds will go to support future events\, functions and services of the North Webster Community Public Library. The sale will be accepting cash\, check or credit cards.
URL:https://www.newsnowwarsaw.com/event/friends-of-north-webster-community-public-library-spring-booksale/
LOCATION:North Webster Community Public Library\, 110 E North Street\, North Webster\, IN\, 46555\, United States
CATEGORIES:Community Events
ORGANIZER;CN="Friends of the North Webster Community Public Library":MAILTO:fnwlibrary@gmail.com
END:VEVENT
BEGIN:VEVENT
DTSTART;TZID=America/Halifax:20260424T103000
DTEND;TZID=America/Halifax:20260424T113000
DTSTAMP:20260424T025810
CREATED:20260331T134452Z
LAST-MODIFIED:20260331T134452Z
UID:129068-1777026600-1777030200@www.newsnowwarsaw.com
SUMMARY:Understanding Your Medicare Choices
DESCRIPTION:State Health Insurance Assistance Program volunteer Megan Rogers will be returning to the North Webster Public Library to discuss the different Medicare parts\, what they entail and how they differ. Ask questions and get answers! \nEvent is free and open to the public – no library card required. To register please call the library at 574-834-7122 or register online here:https://nwcpl.libcal.com/event/16507129
URL:https://www.newsnowwarsaw.com/event/understanding-your-medicare-choices/
LOCATION:North Webster Community Public Library\, 110 E North Street\, North Webster\, IN\, 46555\, United States
CATEGORIES:Community Events
ATTACH;FMTTYPE=image/jpeg:https://www.newsnowwarsaw.com/wp-content/uploads/2026/03/Understanding-Medicare-Choices-Facebook-Post.jpg
END:VEVENT
BEGIN:VEVENT
DTSTART;TZID=America/Halifax:20260424T170000
DTEND;TZID=America/Halifax:20260424T190000
DTSTAMP:20260424T025810
CREATED:20260420T183443Z
LAST-MODIFIED:20260420T183443Z
UID:129882-1777050000-1777057200@www.newsnowwarsaw.com
SUMMARY:American Legion Riders Meatloaf Dinner
DESCRIPTION:Syracuse American Legion Riders is having a Meatloaf Dinner with mash potatoes\, gravy and green beans. Public is welcome and carry out is available. Proceeds go to the scholarship program.
URL:https://www.newsnowwarsaw.com/event/american-legion-riders-meatloaf-dinner/
LOCATION:American Legion Post 223 Syracuse\, 1008 S. Huntington Street\, Syracuse\, IN\, 46567\, United States
CATEGORIES:Community Events
END:VEVENT
END:VCALENDAR