BEGIN:VCALENDAR
VERSION:2.0
PRODID:-//News Now Warsaw - ECPv6.15.20//NONSGML v1.0//EN
CALSCALE:GREGORIAN
METHOD:PUBLISH
X-WR-CALNAME:News Now Warsaw
X-ORIGINAL-URL:https://www.newsnowwarsaw.com
X-WR-CALDESC:Events for News Now Warsaw
REFRESH-INTERVAL;VALUE=DURATION:PT1H
X-Robots-Tag:noindex
X-PUBLISHED-TTL:PT1H
BEGIN:VTIMEZONE
TZID:America/Halifax
BEGIN:DAYLIGHT
TZOFFSETFROM:-0400
TZOFFSETTO:-0300
TZNAME:ADT
DTSTART:20250309T060000
END:DAYLIGHT
BEGIN:STANDARD
TZOFFSETFROM:-0300
TZOFFSETTO:-0400
TZNAME:AST
DTSTART:20251102T050000
END:STANDARD
BEGIN:DAYLIGHT
TZOFFSETFROM:-0400
TZOFFSETTO:-0300
TZNAME:ADT
DTSTART:20260308T060000
END:DAYLIGHT
BEGIN:STANDARD
TZOFFSETFROM:-0300
TZOFFSETTO:-0400
TZNAME:AST
DTSTART:20261101T050000
END:STANDARD
BEGIN:DAYLIGHT
TZOFFSETFROM:-0400
TZOFFSETTO:-0300
TZNAME:ADT
DTSTART:20270314T060000
END:DAYLIGHT
BEGIN:STANDARD
TZOFFSETFROM:-0300
TZOFFSETTO:-0400
TZNAME:AST
DTSTART:20271107T050000
END:STANDARD
END:VTIMEZONE
BEGIN:VEVENT
DTSTART;VALUE=DATE:20260127
DTEND;VALUE=DATE:20260402
DTSTAMP:20260422T140945
CREATED:20260128T154007Z
LAST-MODIFIED:20260128T154007Z
UID:126015-1769472000-1775087999@www.newsnowwarsaw.com
SUMMARY:Hackworth & Sechrist Memorial Scholarship
DESCRIPTION:The Akron Las Donas Club Marcus Hackworth & Scott Sechrist Memorial Scholarship is open to TVHS seniors pursuing a 2 or 4 year degree\, or a vocational training program. The application is available from the school counselor\, or by clicking https://forms.gle/gZFU1ShxbYrAqTyG7 The deadline to apply is April 1\, 2026. Applicants must have participated in at least one sport at some point during high school\, complete the application and provide 3 references outline in the application.
URL:https://www.newsnowwarsaw.com/event/hackworth-sechrist-memorial-scholarship/
LOCATION:Tippecanoe Valley High School\, 8345 State Rte 19\, Akron\, IN\, 46910\, United States
CATEGORIES:Community Events
ATTACH;FMTTYPE=image/jpeg:https://www.newsnowwarsaw.com/wp-content/uploads/2026/01/Marcus-and-Scott-pic.jpeg
ORGANIZER;CN="Akron Las Donas Club":MAILTO:brenda.ross20@gmail.com
END:VEVENT
BEGIN:VEVENT
DTSTART;TZID=America/Halifax:20260318T080000
DTEND;TZID=America/Halifax:20260318T100000
DTSTAMP:20260422T140945
CREATED:20260210T141224Z
LAST-MODIFIED:20260210T141224Z
UID:126484-1773820800-1773828000@www.newsnowwarsaw.com
SUMMARY:Sensory Story Hour
DESCRIPTION:On the third Wednesday of every month\, the Museum will dim the lights and sounds to host a sensory-focused experience from 9AM to 10AM.
URL:https://www.newsnowwarsaw.com/event/sensory-story-hour-3/
LOCATION:Wabash County Museum\, 36 E Market St\, Wabash\, IN\, 46992\, United States
CATEGORIES:Community Events
ATTACH;FMTTYPE=image/png:https://www.newsnowwarsaw.com/wp-content/uploads/2026/02/2025-Wix-Event-Image-Base-21-1.png
ORGANIZER;CN="Wabash County Museum":MAILTO:tgalley@wabashmuseum.org
END:VEVENT
BEGIN:VEVENT
DTSTART;TZID=America/Halifax:20260318T090000
DTEND;TZID=America/Halifax:20260318T100000
DTSTAMP:20260422T140945
CREATED:20260210T141224Z
LAST-MODIFIED:20260210T141224Z
UID:126501-1773824400-1773828000@www.newsnowwarsaw.com
SUMMARY:Sensory Story Hour
DESCRIPTION:On the third Wednesday of every month\, the Museum will dim the lights and sounds to host a sensory-focused experience from 9AM to 10AM.
URL:https://www.newsnowwarsaw.com/event/sensory-story-hour-5/
LOCATION:Wabash County Museum\, 36 E Market St\, Wabash\, IN\, 46992\, United States
CATEGORIES:Community Events
ATTACH;FMTTYPE=image/png:https://www.newsnowwarsaw.com/wp-content/uploads/2026/02/2025-Wix-Event-Image-Base-21-3.png
ORGANIZER;CN="Wabash County Museum":MAILTO:tgalley@wabashmuseum.org
END:VEVENT
BEGIN:VEVENT
DTSTART;TZID=America/Halifax:20260318T160000
DTEND;TZID=America/Halifax:20260318T190000
DTSTAMP:20260422T140945
CREATED:20260302T220217Z
LAST-MODIFIED:20260302T220217Z
UID:127606-1773849600-1773860400@www.newsnowwarsaw.com
SUMMARY:Grace Lutheran Preschool Fish Fry and Silent Auction
DESCRIPTION:Fish Fry (Fried by Big Eyed Fish) all you can eat and silent auction.\nat Grace Lutheran Church in Columbia City\n204 N. Main St\nColumbia City\, IN 46725\n4pm-7pm\nAdult-$15\n6-12 $6\n5-under Free\nAll payment types accepted
URL:https://www.newsnowwarsaw.com/event/grace-lutheran-preschool-fish-fry-and-silent-auction/
LOCATION:Grace Lutheran Church\, 204 N Main Street\, Columbia City\, IN\, 46725\, United States
CATEGORIES:Community Events
ATTACH;FMTTYPE=image/jpeg:https://www.newsnowwarsaw.com/wp-content/uploads/2026/02/2026-Preschool-Fish-Fry-Flyer.jpg
ORGANIZER;CN="Grace Lutheran Church Preschool":MAILTO:pregracelutheran@gmail.com
END:VEVENT
END:VCALENDAR