BEGIN:VCALENDAR
VERSION:2.0
PRODID:-//News Now Warsaw - ECPv6.15.20//NONSGML v1.0//EN
CALSCALE:GREGORIAN
METHOD:PUBLISH
X-WR-CALNAME:News Now Warsaw
X-ORIGINAL-URL:https://www.newsnowwarsaw.com
X-WR-CALDESC:Events for News Now Warsaw
REFRESH-INTERVAL;VALUE=DURATION:PT1H
X-Robots-Tag:noindex
X-PUBLISHED-TTL:PT1H
BEGIN:VTIMEZONE
TZID:America/Halifax
BEGIN:DAYLIGHT
TZOFFSETFROM:-0400
TZOFFSETTO:-0300
TZNAME:ADT
DTSTART:20250309T060000
END:DAYLIGHT
BEGIN:STANDARD
TZOFFSETFROM:-0300
TZOFFSETTO:-0400
TZNAME:AST
DTSTART:20251102T050000
END:STANDARD
BEGIN:DAYLIGHT
TZOFFSETFROM:-0400
TZOFFSETTO:-0300
TZNAME:ADT
DTSTART:20260308T060000
END:DAYLIGHT
BEGIN:STANDARD
TZOFFSETFROM:-0300
TZOFFSETTO:-0400
TZNAME:AST
DTSTART:20261101T050000
END:STANDARD
BEGIN:DAYLIGHT
TZOFFSETFROM:-0400
TZOFFSETTO:-0300
TZNAME:ADT
DTSTART:20270314T060000
END:DAYLIGHT
BEGIN:STANDARD
TZOFFSETFROM:-0300
TZOFFSETTO:-0400
TZNAME:AST
DTSTART:20271107T050000
END:STANDARD
END:VTIMEZONE
BEGIN:VEVENT
DTSTART;VALUE=DATE:20260319
DTEND;VALUE=DATE:20260418
DTSTAMP:20260420T070310
CREATED:20260326T191913Z
LAST-MODIFIED:20260326T191913Z
UID:128529-1773878400-1776470399@www.newsnowwarsaw.com
SUMMARY:Spring Swing: Pop-Up Mini Golf
DESCRIPTION:This March and April\, we will have an exciting 9-hole regulation miniature golf course set up throughout the beautifully spring-decorated Museum! The perfect activity if you’re home for Spring Break!
URL:https://www.newsnowwarsaw.com/event/spring-swing-pop-up-mini-golf/
LOCATION:Wabash County Historical Museum\, 36 E Market St\, Wabash\, IN\, 46992\, United States
CATEGORIES:Community Events
ATTACH;FMTTYPE=image/png:https://www.newsnowwarsaw.com/wp-content/uploads/2026/03/2026-Wix-Event-Image-Base-3.png
ORGANIZER;CN="Wabash County Historical Museum":MAILTO:tgalley@wabashmuseum.org
END:VEVENT
BEGIN:VEVENT
DTSTART;TZID=America/Halifax:20260404T070000
DTEND;TZID=America/Halifax:20260404T100000
DTSTAMP:20260420T070310
CREATED:20260326T191911Z
LAST-MODIFIED:20260326T191911Z
UID:128383-1775286000-1775296800@www.newsnowwarsaw.com
SUMMARY:Argos Easter Pancake Breakfast 2026
DESCRIPTION:Start your Easter weekend with a full plate and a full heart! \nThe Argos Volunteer Firemen\, Inc. invite the community to their Annual Easter Pancake Breakfast on:\nSaturday\, April 4\, 2026\n7:00AM – 10:00AM\nArgos Community School Cafeteria \nEnjoy pancakes\, sausage\, eggs\, and beverages. \nAdmission is Free Will Donation\, with proceeds supporting the Argos Volunteer Firemen\, Inc. and their continued service to our community.\nBring your family\, invite your neighbors\, and come hungry! \nPlanning to attend the Easter Egg Hunt? The hunt begins at 10:15AM at Argos Community Park — making it the perfect morning in Argos.\nWe hope to see you there!
URL:https://www.newsnowwarsaw.com/event/argos-easter-pancake-breakfast-2026-2/
LOCATION:Argos Community School\, 500 N. Yearick St.\, Argos\, IN\, 46501\, United States
CATEGORIES:Community Events
ATTACH;FMTTYPE=image/png:https://www.newsnowwarsaw.com/wp-content/uploads/2026/03/TOA-Firemen-Pancake-Breakfast-1.png
END:VEVENT
BEGIN:VEVENT
DTSTART;TZID=America/Halifax:20260404T100000
DTEND;TZID=America/Halifax:20260404T110000
DTSTAMP:20260420T070310
CREATED:20260326T191912Z
LAST-MODIFIED:20260326T191912Z
UID:128389-1775296800-1775300400@www.newsnowwarsaw.com
SUMMARY:Argos Easter Egg Hunt 2026
DESCRIPTION:Town of Argos Annual Easter Egg Hunt! \nSpring is in the air\, and that means it’s time for one of Argos’ sweetest traditions!\nJoin us on April 4th at 10:15AM at Argos Community Park for our Annual Easter Egg Hunt. \nChildren ages 11 & under are invited to bring their baskets and their best egg-hunting skills! The hunt will be divided into age groups to make sure everyone has a fair and fun experience. \nThe Easter Bunny will be there\, so be sure to bring your camera for photos! \nMake a morning of it and start your day with the Argos Volunteer Firemen Pancake Breakfast from 7:00AM–10:00AM. Nothing says community like pancakes\, smiling kids\, and a park full of colorful eggs. \nWe can’t wait to celebrate Easter together in Argos!
URL:https://www.newsnowwarsaw.com/event/argos-easter-egg-hunt-2026/
LOCATION:Argos Community Park\, 560 w. Walnut St\, Argos\, IN\, 46501\, United States
CATEGORIES:Community Events
ATTACH;FMTTYPE=image/png:https://www.newsnowwarsaw.com/wp-content/uploads/2026/03/TOA-Easter-Egg-Hunt-.png
ORGANIZER;CN="Town of Argos":MAILTO:townofargosin@gmail.com
END:VEVENT
END:VCALENDAR