BEGIN:VCALENDAR
VERSION:2.0
PRODID:-//News Now Warsaw - ECPv6.15.20//NONSGML v1.0//EN
CALSCALE:GREGORIAN
METHOD:PUBLISH
X-ORIGINAL-URL:https://www.newsnowwarsaw.com
X-WR-CALDESC:Events for News Now Warsaw
REFRESH-INTERVAL;VALUE=DURATION:PT1H
X-Robots-Tag:noindex
X-PUBLISHED-TTL:PT1H
BEGIN:VTIMEZONE
TZID:America/Halifax
BEGIN:DAYLIGHT
TZOFFSETFROM:-0400
TZOFFSETTO:-0300
TZNAME:ADT
DTSTART:20250309T060000
END:DAYLIGHT
BEGIN:STANDARD
TZOFFSETFROM:-0300
TZOFFSETTO:-0400
TZNAME:AST
DTSTART:20251102T050000
END:STANDARD
BEGIN:DAYLIGHT
TZOFFSETFROM:-0400
TZOFFSETTO:-0300
TZNAME:ADT
DTSTART:20260308T060000
END:DAYLIGHT
BEGIN:STANDARD
TZOFFSETFROM:-0300
TZOFFSETTO:-0400
TZNAME:AST
DTSTART:20261101T050000
END:STANDARD
BEGIN:DAYLIGHT
TZOFFSETFROM:-0400
TZOFFSETTO:-0300
TZNAME:ADT
DTSTART:20270314T060000
END:DAYLIGHT
BEGIN:STANDARD
TZOFFSETFROM:-0300
TZOFFSETTO:-0400
TZNAME:AST
DTSTART:20271107T050000
END:STANDARD
END:VTIMEZONE
BEGIN:VEVENT
DTSTART;TZID=America/Halifax:20260421T103000
DTEND;TZID=America/Halifax:20260421T113000
DTSTAMP:20260422T112959
CREATED:20260331T134452Z
LAST-MODIFIED:20260331T134452Z
UID:129063-1776767400-1776771000@www.newsnowwarsaw.com
SUMMARY:Mark Kurtz: Vietnam Photographer
DESCRIPTION:Goshen photographer Mark Kurtz will visit the North Webster Public Library to present\, “Saigon Revisited\,” a program recounting his experiences as a photographer during the Vietnam War.  \nRather than focusing on the war\, Kurtz chose to focus on the everyday people and happenings in the city of Saigon. From prayer time in a Buddhist temple to kids playing in the streets\, to a beggar pleading wordlessly for food\, Kurtz’s photos give a glimpse into a Vietnam that most of us have never known.  \nThis free program is for ages 18 and older\, however kids and grandkids ages 10 and up are welcome! Please register so we know how many participants to plan for. Register by calling the library at 574-834-7122 or online here: https://nwcpl.libcal.com/event/16082498
URL:https://www.newsnowwarsaw.com/event/mark-kurtz-vietnam-photographer-2/
LOCATION:North Webster Community Public Library\, 110 E North Street\, North Webster\, IN\, 46555\, United States
CATEGORIES:Community Events
ATTACH;FMTTYPE=image/jpeg:https://www.newsnowwarsaw.com/wp-content/uploads/2026/03/Copy-of-Vietnam-photographer-1.jpg
END:VEVENT
BEGIN:VEVENT
DTSTART;TZID=America/Halifax:20260421T103000
DTEND;TZID=America/Halifax:20260421T120000
DTSTAMP:20260422T112959
CREATED:20260310T153826Z
LAST-MODIFIED:20260310T153826Z
UID:127984-1776767400-1776772800@www.newsnowwarsaw.com
SUMMARY:Mark Kurtz: Vietnam Photographer
DESCRIPTION:Goshen photographer Mark Kurtz will present\, “Saigon Revisited\,” a program recounting his experiences as a photographer during the Vietnam War. Rather than focusing on the war\, Kurtz chose to focus on the everyday people and happenings in the city of Saigon. From prayer time in a Buddhist temple to kids playing in the streets\, to a beggar pleading wordlessly for food\, Kurtz’s photos give a glimpse into a Vietnam that most of us have never known. This program is for ages 18 and older\, however kids and grandkids ages 10 and up are welcome! Please register so we know how many participants to plan for.
URL:https://www.newsnowwarsaw.com/event/mark-kurtz-vietnam-photographer/
LOCATION:North Webster Community Public Library\, 110 E North Street\, North Webster\, IN\, 46555\, United States
CATEGORIES:Community Events
ATTACH;FMTTYPE=image/jpeg:https://www.newsnowwarsaw.com/wp-content/uploads/2026/03/Copy-of-Vietnam-photographer.jpg
END:VEVENT
END:VCALENDAR