BEGIN:VCALENDAR
VERSION:2.0
PRODID:-//News Now Warsaw - ECPv6.15.20//NONSGML v1.0//EN
CALSCALE:GREGORIAN
METHOD:PUBLISH
X-ORIGINAL-URL:https://www.newsnowwarsaw.com
X-WR-CALDESC:Events for News Now Warsaw
REFRESH-INTERVAL;VALUE=DURATION:PT1H
X-Robots-Tag:noindex
X-PUBLISHED-TTL:PT1H
BEGIN:VTIMEZONE
TZID:America/Halifax
BEGIN:DAYLIGHT
TZOFFSETFROM:-0400
TZOFFSETTO:-0300
TZNAME:ADT
DTSTART:20250309T060000
END:DAYLIGHT
BEGIN:STANDARD
TZOFFSETFROM:-0300
TZOFFSETTO:-0400
TZNAME:AST
DTSTART:20251102T050000
END:STANDARD
BEGIN:DAYLIGHT
TZOFFSETFROM:-0400
TZOFFSETTO:-0300
TZNAME:ADT
DTSTART:20260308T060000
END:DAYLIGHT
BEGIN:STANDARD
TZOFFSETFROM:-0300
TZOFFSETTO:-0400
TZNAME:AST
DTSTART:20261101T050000
END:STANDARD
BEGIN:DAYLIGHT
TZOFFSETFROM:-0400
TZOFFSETTO:-0300
TZNAME:ADT
DTSTART:20270314T060000
END:DAYLIGHT
BEGIN:STANDARD
TZOFFSETFROM:-0300
TZOFFSETTO:-0400
TZNAME:AST
DTSTART:20271107T050000
END:STANDARD
END:VTIMEZONE
BEGIN:VEVENT
DTSTART;TZID=America/Halifax:20260429T180000
DTEND;TZID=America/Halifax:20260429T200000
DTSTAMP:20260420T070308
CREATED:20260331T134452Z
LAST-MODIFIED:20260331T134452Z
UID:129088-1777485600-1777492800@www.newsnowwarsaw.com
SUMMARY:Do NASA Science LIVE! - Comets\, Clues & Our Cosmic Story
DESCRIPTION:Join us at the North Webster Public Library for another exciting session of Do NASA Science LIVE! Meet a real NASA scientist via zoom\, then learn how YOU can help scientists do real important scientific research\, right from your computer! \nThanks to a grant from SciStarter\, the event will also feature a FREE taco bar and door prizes! \nEvent is free and open to the public – no library card required. Please register in advance so we know how to plan! Register by calling the library at 574-834-7122 or online here: https://nwcpl.libcal.com/event/16082515
URL:https://www.newsnowwarsaw.com/event/do-nasa-science-live-comets-clues-our-cosmic-story/
LOCATION:North Webster Community Public Library\, 110 E North Street\, North Webster\, IN\, 46555\, United States
CATEGORIES:Community Events
ATTACH;FMTTYPE=image/jpeg:https://www.newsnowwarsaw.com/wp-content/uploads/2026/03/Comets-Clues-and-Cosmic-Story-Facebook-Post.jpg
END:VEVENT
END:VCALENDAR