BEGIN:VCALENDAR
VERSION:2.0
PRODID:-//News Now Warsaw - ECPv6.15.20//NONSGML v1.0//EN
CALSCALE:GREGORIAN
METHOD:PUBLISH
X-ORIGINAL-URL:https://www.newsnowwarsaw.com
X-WR-CALDESC:Events for News Now Warsaw
REFRESH-INTERVAL;VALUE=DURATION:PT1H
X-Robots-Tag:noindex
X-PUBLISHED-TTL:PT1H
BEGIN:VTIMEZONE
TZID:America/Halifax
BEGIN:DAYLIGHT
TZOFFSETFROM:-0400
TZOFFSETTO:-0300
TZNAME:ADT
DTSTART:20250309T060000
END:DAYLIGHT
BEGIN:STANDARD
TZOFFSETFROM:-0300
TZOFFSETTO:-0400
TZNAME:AST
DTSTART:20251102T050000
END:STANDARD
BEGIN:DAYLIGHT
TZOFFSETFROM:-0400
TZOFFSETTO:-0300
TZNAME:ADT
DTSTART:20260308T060000
END:DAYLIGHT
BEGIN:STANDARD
TZOFFSETFROM:-0300
TZOFFSETTO:-0400
TZNAME:AST
DTSTART:20261101T050000
END:STANDARD
BEGIN:DAYLIGHT
TZOFFSETFROM:-0400
TZOFFSETTO:-0300
TZNAME:ADT
DTSTART:20270314T060000
END:DAYLIGHT
BEGIN:STANDARD
TZOFFSETFROM:-0300
TZOFFSETTO:-0400
TZNAME:AST
DTSTART:20271107T050000
END:STANDARD
END:VTIMEZONE
BEGIN:VEVENT
DTSTART;TZID=America/Halifax:20260504T133000
DTEND;TZID=America/Halifax:20260504T143000
DTSTAMP:20260422T083449
CREATED:20260331T134452Z
LAST-MODIFIED:20260331T134452Z
UID:129083-1777901400-1777905000@www.newsnowwarsaw.com
SUMMARY:George Washington: The Battle for Independence
DESCRIPTION:Join historical re-enactor Terrence Lynch as he portrays George Washington at the North Webster Community Public Library!  \nIn this engaging one-man performance\, Lynch brings the nation’s first president to life while exploring Washington’s role in America’s fight for independence. \nEvent is free and open to the public – no library card required. While this program is tailored for ages 18 and over\, kids and grandkids are welcome to attend! Please register so we know how many participants to plan for. Register by calling the library at 574-834-7122 or online here: https://nwcpl.libcal.com/event/16083140
URL:https://www.newsnowwarsaw.com/event/george-washington-the-battle-for-independence/
LOCATION:North Webster Community Public Library\, 110 E North Street\, North Webster\, IN\, 46555\, United States
CATEGORIES:Community Events
ATTACH;FMTTYPE=image/jpeg:https://www.newsnowwarsaw.com/wp-content/uploads/2026/03/Meet-George-Washington-Facebook-Post.jpg
END:VEVENT
END:VCALENDAR