BEGIN:VCALENDAR
VERSION:2.0
PRODID:-//News Now Warsaw - ECPv6.15.20//NONSGML v1.0//EN
CALSCALE:GREGORIAN
METHOD:PUBLISH
X-ORIGINAL-URL:https://www.newsnowwarsaw.com
X-WR-CALDESC:Events for News Now Warsaw
REFRESH-INTERVAL;VALUE=DURATION:PT1H
X-Robots-Tag:noindex
X-PUBLISHED-TTL:PT1H
BEGIN:VTIMEZONE
TZID:America/Halifax
BEGIN:DAYLIGHT
TZOFFSETFROM:-0400
TZOFFSETTO:-0300
TZNAME:ADT
DTSTART:20250309T060000
END:DAYLIGHT
BEGIN:STANDARD
TZOFFSETFROM:-0300
TZOFFSETTO:-0400
TZNAME:AST
DTSTART:20251102T050000
END:STANDARD
BEGIN:DAYLIGHT
TZOFFSETFROM:-0400
TZOFFSETTO:-0300
TZNAME:ADT
DTSTART:20260308T060000
END:DAYLIGHT
BEGIN:STANDARD
TZOFFSETFROM:-0300
TZOFFSETTO:-0400
TZNAME:AST
DTSTART:20261101T050000
END:STANDARD
BEGIN:DAYLIGHT
TZOFFSETFROM:-0400
TZOFFSETTO:-0300
TZNAME:ADT
DTSTART:20270314T060000
END:DAYLIGHT
BEGIN:STANDARD
TZOFFSETFROM:-0300
TZOFFSETTO:-0400
TZNAME:AST
DTSTART:20271107T050000
END:STANDARD
END:VTIMEZONE
BEGIN:VEVENT
DTSTART;TZID=America/Halifax:20260507T120000
DTEND;TZID=America/Halifax:20260507T130000
DTSTAMP:20260422T095817
CREATED:20260420T183444Z
LAST-MODIFIED:20260420T183444Z
UID:129959-1778155200-1778158800@www.newsnowwarsaw.com
SUMMARY:Kosciusko County IN National Day of Prayer
DESCRIPTION:The 2026 Kosciusko County Indiana National Day of Prayer will be held at noon on May 7th at Rodeheaver Auditorium on the campus of Grace College in Winona Lake\, Indiana. \nThis year’s theme is: “GLORIFY GOD AMONG THE NATIONS – SEEKING HIM IN ALL GENERATIONS”. Let’s seek the Lord together for His work among the families\, churches\, schools\, media groups\, governments\, businesses\, and military members in our community\, our state\, and our nation. Let’s also pray God will be glorified in all the nations of the world. \nTell of His glory among the nations\, His wonderful deeds among all the peoples. 1 Chronicles 16:24 NASB
URL:https://www.newsnowwarsaw.com/event/kosciusko-county-in-national-day-of-prayer/
LOCATION:Rodeheaver Auditorium\, 901 Park Ave\, Winona Lake\, IN\, 46590\, United States
CATEGORIES:Community Events
ATTACH;FMTTYPE=image/jpeg:https://www.newsnowwarsaw.com/wp-content/uploads/2026/04/NDOP2026FBEvent.jpg
END:VEVENT
END:VCALENDAR