BEGIN:VCALENDAR
VERSION:2.0
PRODID:-//News Now Warsaw - ECPv6.15.20//NONSGML v1.0//EN
CALSCALE:GREGORIAN
METHOD:PUBLISH
X-WR-CALNAME:News Now Warsaw
X-ORIGINAL-URL:https://www.newsnowwarsaw.com
X-WR-CALDESC:Events for News Now Warsaw
REFRESH-INTERVAL;VALUE=DURATION:PT1H
X-Robots-Tag:noindex
X-PUBLISHED-TTL:PT1H
BEGIN:VTIMEZONE
TZID:America/Halifax
BEGIN:DAYLIGHT
TZOFFSETFROM:-0400
TZOFFSETTO:-0300
TZNAME:ADT
DTSTART:20250309T060000
END:DAYLIGHT
BEGIN:STANDARD
TZOFFSETFROM:-0300
TZOFFSETTO:-0400
TZNAME:AST
DTSTART:20251102T050000
END:STANDARD
BEGIN:DAYLIGHT
TZOFFSETFROM:-0400
TZOFFSETTO:-0300
TZNAME:ADT
DTSTART:20260308T060000
END:DAYLIGHT
BEGIN:STANDARD
TZOFFSETFROM:-0300
TZOFFSETTO:-0400
TZNAME:AST
DTSTART:20261101T050000
END:STANDARD
BEGIN:DAYLIGHT
TZOFFSETFROM:-0400
TZOFFSETTO:-0300
TZNAME:ADT
DTSTART:20270314T060000
END:DAYLIGHT
BEGIN:STANDARD
TZOFFSETFROM:-0300
TZOFFSETTO:-0400
TZNAME:AST
DTSTART:20271107T050000
END:STANDARD
END:VTIMEZONE
BEGIN:VEVENT
DTSTART;TZID=America/Halifax:20260508T163000
DTEND;TZID=America/Halifax:20260508T190000
DTSTAMP:20260422T083335
CREATED:20260402T123407Z
LAST-MODIFIED:20260402T123407Z
UID:129141-1778257800-1778266800@www.newsnowwarsaw.com
SUMMARY:Knights of Columbus Fish Fry
DESCRIPTION:What: All-you-can eat dine-in with fish\, coleslaw\, & green beans. \nWho: All are welcome
URL:https://www.newsnowwarsaw.com/event/knights-of-columbus-fish-fry-2/
LOCATION:Noll Club\, 26 W. Bell Dr.\, Warsaw\, IN\, 46580\, United States
CATEGORIES:Community Events
ORGANIZER;CN="Knights of Columbus - Council 4511":MAILTO:Cwainsc@msn.com
END:VEVENT
END:VCALENDAR