BEGIN:VCALENDAR
VERSION:2.0
PRODID:-//News Now Warsaw - ECPv6.15.20//NONSGML v1.0//EN
CALSCALE:GREGORIAN
METHOD:PUBLISH
X-WR-CALNAME:News Now Warsaw
X-ORIGINAL-URL:https://www.newsnowwarsaw.com
X-WR-CALDESC:Events for News Now Warsaw
REFRESH-INTERVAL;VALUE=DURATION:PT1H
X-Robots-Tag:noindex
X-PUBLISHED-TTL:PT1H
BEGIN:VTIMEZONE
TZID:America/Halifax
BEGIN:DAYLIGHT
TZOFFSETFROM:-0400
TZOFFSETTO:-0300
TZNAME:ADT
DTSTART:20250309T060000
END:DAYLIGHT
BEGIN:STANDARD
TZOFFSETFROM:-0300
TZOFFSETTO:-0400
TZNAME:AST
DTSTART:20251102T050000
END:STANDARD
BEGIN:DAYLIGHT
TZOFFSETFROM:-0400
TZOFFSETTO:-0300
TZNAME:ADT
DTSTART:20260308T060000
END:DAYLIGHT
BEGIN:STANDARD
TZOFFSETFROM:-0300
TZOFFSETTO:-0400
TZNAME:AST
DTSTART:20261101T050000
END:STANDARD
BEGIN:DAYLIGHT
TZOFFSETFROM:-0400
TZOFFSETTO:-0300
TZNAME:ADT
DTSTART:20270314T060000
END:DAYLIGHT
BEGIN:STANDARD
TZOFFSETFROM:-0300
TZOFFSETTO:-0400
TZNAME:AST
DTSTART:20271107T050000
END:STANDARD
END:VTIMEZONE
BEGIN:VEVENT
DTSTART;TZID=America/Halifax:20260126T180000
DTEND;TZID=America/Halifax:20260126T190000
DTSTAMP:20260425T160150
CREATED:20260107T153744Z
LAST-MODIFIED:20260107T153744Z
UID:124783-1769450400-1769454000@www.newsnowwarsaw.com
SUMMARY:Remembering the 70s
DESCRIPTION:This adult event will feature snacks\, games\, music\, and 70s trivia. Feel free to drop by for a minute or stay for the entire duration. Dress in costume for a chance to win a prize for the best dressed!
URL:https://www.newsnowwarsaw.com/event/remembering-the-70s/
LOCATION:Warsaw Community Public Library\, 310 E Main Street\, Warsaw\, IN\, 46580\, United States
ORGANIZER;CN="Warsaw Community Public Library":MAILTO:info@warsawlibrary.org
END:VEVENT
BEGIN:VEVENT
DTSTART;VALUE=DATE:20260116
DTEND;VALUE=DATE:20260301
DTSTAMP:20260425T160150
CREATED:20260116T134727Z
LAST-MODIFIED:20260116T134727Z
UID:125531-1768521600-1772323199@www.newsnowwarsaw.com
SUMMARY:Akron Youth League
DESCRIPTION:THE AKRON YOUTH LEAGUE IS TAKING REGISTRATON NOW.\nGO TO THE FACEBOOK PAGE FOR INFORMATION.
URL:https://www.newsnowwarsaw.com/event/akron-youth-league/
END:VEVENT
END:VCALENDAR