BEGIN:VCALENDAR
VERSION:2.0
PRODID:-//News Now Warsaw - ECPv6.15.20//NONSGML v1.0//EN
CALSCALE:GREGORIAN
METHOD:PUBLISH
X-WR-CALNAME:News Now Warsaw
X-ORIGINAL-URL:https://www.newsnowwarsaw.com
X-WR-CALDESC:Events for News Now Warsaw
REFRESH-INTERVAL;VALUE=DURATION:PT1H
X-Robots-Tag:noindex
X-PUBLISHED-TTL:PT1H
BEGIN:VTIMEZONE
TZID:America/Halifax
BEGIN:DAYLIGHT
TZOFFSETFROM:-0400
TZOFFSETTO:-0300
TZNAME:ADT
DTSTART:20250309T060000
END:DAYLIGHT
BEGIN:STANDARD
TZOFFSETFROM:-0300
TZOFFSETTO:-0400
TZNAME:AST
DTSTART:20251102T050000
END:STANDARD
BEGIN:DAYLIGHT
TZOFFSETFROM:-0400
TZOFFSETTO:-0300
TZNAME:ADT
DTSTART:20260308T060000
END:DAYLIGHT
BEGIN:STANDARD
TZOFFSETFROM:-0300
TZOFFSETTO:-0400
TZNAME:AST
DTSTART:20261101T050000
END:STANDARD
BEGIN:DAYLIGHT
TZOFFSETFROM:-0400
TZOFFSETTO:-0300
TZNAME:ADT
DTSTART:20270314T060000
END:DAYLIGHT
BEGIN:STANDARD
TZOFFSETFROM:-0300
TZOFFSETTO:-0400
TZNAME:AST
DTSTART:20271107T050000
END:STANDARD
END:VTIMEZONE
BEGIN:VEVENT
DTSTART;TZID=America/Halifax:20260124T130000
DTEND;TZID=America/Halifax:20260124T150000
DTSTAMP:20260424T025831
CREATED:20260107T153421Z
LAST-MODIFIED:20260107T153442Z
UID:124707-1769259600-1769266800@www.newsnowwarsaw.com
SUMMARY:Local Author Meet and  Greet
DESCRIPTION:Come meet local authors and celebrate our creative community! \nEnjoy author meet-and-greets\, book signings\, live readings\, and plenty of opportunities to connect with fellow book lovers. Purchase books from local authors\, or maybe even learn how to get published yourself! \nIt’s a wonderful chance to discover new stories and support local talent – don’t miss it!
URL:https://www.newsnowwarsaw.com/event/local-author-meet-greet/
LOCATION:North Webster Community Public Library\, 110 E North Street\, North Webster\, IN\, 46555\, United States
CATEGORIES:Community Events
ATTACH;FMTTYPE=image/png:https://www.newsnowwarsaw.com/wp-content/uploads/2025/12/Local-Author-Fair-Facebook-Post-1.png
END:VEVENT
BEGIN:VEVENT
DTSTART;TZID=America/Halifax:20260124T103000
DTEND;TZID=America/Halifax:20260124T113000
DTSTAMP:20260424T025831
CREATED:20260107T153744Z
LAST-MODIFIED:20260107T153744Z
UID:124777-1769250600-1769254200@www.newsnowwarsaw.com
SUMMARY:YO-YO Club
DESCRIPTION:Are you a yo-yo enthusiast?  \nJoin us for our first Yo-Yo Club meeting this month! Open to all ages\, this informal gathering is a great chance to meet others\, share tricks\, and showcase your skills. Help us spread the word and keep the momentum going!\nRoom AB
URL:https://www.newsnowwarsaw.com/event/yo-yo-club/
LOCATION:Warsaw Community Public Library\, 310 E Main Street\, Warsaw\, IN\, 46580\, United States
ORGANIZER;CN="Warsaw Community Public Library":MAILTO:info@warsawlibrary.org
END:VEVENT
BEGIN:VEVENT
DTSTART;VALUE=DATE:20260116
DTEND;VALUE=DATE:20260301
DTSTAMP:20260424T025831
CREATED:20260116T134727Z
LAST-MODIFIED:20260116T134727Z
UID:125531-1768521600-1772323199@www.newsnowwarsaw.com
SUMMARY:Akron Youth League
DESCRIPTION:THE AKRON YOUTH LEAGUE IS TAKING REGISTRATON NOW.\nGO TO THE FACEBOOK PAGE FOR INFORMATION.
URL:https://www.newsnowwarsaw.com/event/akron-youth-league/
END:VEVENT
END:VCALENDAR